Workbook
Name Lista_codigos: OFFSET(Maquinaria!$B$5,0,0,COUNTA(Tabla_Equipos[Código]))
Name Lista_codigos: OFFSET(Velocimetros!$N$4,0,0,COUNTA(Velocimetros!$N$4:$N$1000))
Name Responsable: Maquinaria!$C$5:$C$23

Sheet Maquinaria
B2: DATOS DE MAQUINARIA PESADA | F2: =TODAY() -> 45905
B4: Código | C4: Maquinaria | D4: Marca | E4: Características Principales | F4: Horómetro a la fecha
B5: 8676 | C5: Perforadora Rotativa MD6540C | D5: Caterpillar | E5: Carga sobre la broca 119,050 Lb - Diámetro de perforación: 9" - 15" | F5: 23567
B6: 4020 | C6: Perforadora Smart ROC D65 | D6: Epiroc | E6: Diametro de barreno 110mm - 229mm .}- Martillo 6" | F6: 19345
B7: 4717 | C7: Perforadora 320XPC | D7: P&H | E7: 150,000 lb de carga de barrena - Diámetro de perforación 10" 5/8 - 17" ½ | F7: 16468
B8: 2180 | C8: Excavadora 385C | D8: Caterpillar | E8: Peso 86.5 T - Capacidad cuchara 4m3 | F8: 15882
B9: 1065 | C9: Montacarga 2ETC3000 | D9: Caterpillar | E9: Eléctrico contrabalance de llanta sólida | F9: 10436

Sheet Programa
B1: MANTENIMIENTO PREVENTIVO BASADO EN HORAS DE USO (UBM)
B3: =REPT(" ",8)&COUNTA($E$11:$E$10000) -> 0 | E3: Programados (PR) | F3: =SUM($L$11:$L$10000) -> 0 | K3: Objetivos | W3: INICIA EN LA SEMANA DEL
B4: {=REPT(" ",8)&COUNT(IF(_xlfn.UNIQUE($D$11:$D$10000)<>"",0))} -> 0 | E4: Ejecutados (E) | F4: =SUM($M$11:$M$10000) -> 0 | K4: Cumplim | L4: Efectiv | AA4: =30000+Velocimetros!O4 -> 45355
E5: Reprogramados (R) | F5: =SUM($N$11:$N$10000) -> 0 | K5: 0.75 | L5: 0.6
W6: =IF(W7="",V6,W7) -> Semana 1 | X6: =IF(X7="",W6,X7) -> Semana 1 | Y6: =IF(Y7="",X6,Y7) -> Semana 1 | Z6: =IF(Z7="",Y6,Z7) -> Semana 1 | AA6: =IF(AA7="",Z6,AA7) -> Semana 1 | AB6: =IF(AB7="",AA6,AB7) -> Semana 1 | AC6: =IF(AC7="",AB6,AC7) -> Semana 1 | AD6: =IF(AD7="",AC6,AD7) -> Semana 2 | ... OC6: =IF(OC7="",OB6,OC7) -> Semana 53
E7: No Ejecutados (N) | F7: =SUM($O$11:$O$10000) -> 0 | K7: 0.9 | L7: 0.8 | W7: ="Semana "&(W9-($AA$4-WEEKDAY($AA$4,2)+1))/7+1 -> Semana 1 | AD7: ="Semana "&(AD9-($AA$4-WEEKDAY($AA$4,2)+1))/7+1 -> Semana 2 | AK7: ="Semana "&(AK9-($AA$4-WEEKDAY($AA$4,2)+1))/7+1 -> Semana 3 | AR7: ="Semana "&(AR9-($AA$4-WEEKDAY($AA$4,2)+1))/7+1 -> Semana 4 | AY7: ="Semana "&(AY9-($AA$4-WEEKDAY($AA$4,2)+1))/7+1 -> Semana 5 | BF7: ="Semana "&(BF9-($AA$4-WEEKDAY($AA$4,2)+1))/7+1 -> Semana 6 | BM7: ="Semana "&(BM9-($AA$4-WEEKDAY($AA$4,2)+1))/7+1 -> Semana 7 | BT7: ="Semana "&(BT9-($AA$4-WEEKDAY($AA$4,2)+1))/7+1 -> Semana 8 | CA7: ="Semana "&(CA9-($AA$4-WEEKDAY($AA$4,2)+1))/7+1 -> Semana 9 | CH7: ="Semana "&(CH9-($AA$4-WEEKDAY($AA$4,2)+1))/7+1 -> Semana 10 | CO7: ="Semana "&(CO9-($AA$4-WEEKDAY($AA$4,2)+1))/7+1 -> Semana 11 | CV7: ="Semana "&(CV9-($AA$4-WEEKDAY($AA$4,2)+1))/7+1 -> Semana 12 | DC7: ="Semana "&(DC9-($AA$4-WEEKDAY($AA$4,2)+1))/7+1 -> Semana 13 | DJ7: ="Semana "&(DJ9-($AA$4-WEEKDAY($AA$4,2)+1))/7+1 -> Semana 14 | DQ7: ="Semana "&(DQ9-($AA$4-WEEKDAY($AA$4,2)+1))/7+1 -> Semana 15 | DX7: ="Semana "&(DX9-($AA$4-WEEKDAY($AA$4,2)+1))/7+1 -> Semana 16 | EE7: ="Semana "&(EE9-($AA$4-WEEKDAY($AA$4,2)+1))/7+1 -> Semana 17 | EL7: ="Semana "&(EL9-($AA$4-WEEKDAY($AA$4,2)+1))/7+1 -> Semana 18 | ES7: ="Semana "&(ES9-($AA$4-WEEKDAY($AA$4,2)+1))/7+1 -> Semana 19 | EZ7: ="Semana "&(EZ9-($AA$4-WEEKDAY($AA$4,2)+1))/7+1 -> Semana 20 | FG7: ="Semana "&(FG9-($AA$4-WEEKDAY($AA$4,2)+1))/7+1 -> Semana 21 | FN7: ="Semana "&(FN9-($AA$4-WEEKDAY($AA$4,2)+1))/7+1 -> Semana 22 | FU7: ="Semana "&(FU9-($AA$4-WEEKDAY($AA$4,2)+1))/7+1 -> Semana 23 | GB7: ="Semana "&(GB9-($AA$4-WEEKDAY($AA$4,2)+1))/7+1 -> Semana 24 | GI7: ="Semana "&(GI9-($AA$4-WEEKDAY($AA$4,2)+1))/7+1 -> Semana 25 | GP7: ="Semana "&(GP9-($AA$4-WEEKDAY($AA$4,2)+1))/7+1 -> Semana 26 | GW7: ="Semana "&(GW9-($AA$4-WEEKDAY($AA$4,2)+1))/7+1 -> Semana 27 | HD7: ="Semana "&(HD9-($AA$4-WEEKDAY($AA$4,2)+1))/7+1 -> Semana 28 | HK7: ="Semana "&(HK9-($AA$4-WEEKDAY($AA$4,2)+1))/7+1 -> Semana 29 | HR7: ="Semana "&(HR9-($AA$4-WEEKDAY($AA$4,2)+1))/7+1 -> Semana 30 | HY7: ="Semana "&(HY9-($AA$4-WEEKDAY($AA$4,2)+1))/7+1 -> Semana 31 | IF7: ="Semana "&(IF9-($AA$4-WEEKDAY($AA$4,2)+1))/7+1 -> Semana 32 | IM7: ="Semana "&(IM9-($AA$4-WEEKDAY($AA$4,2)+1))/7+1 -> Semana 33 | IT7: ="Semana "&(IT9-($AA$4-WEEKDAY($AA$4,2)+1))/7+1 -> Semana 34 | JA7: ="Semana "&(JA9-($AA$4-WEEKDAY($AA$4,2)+1))/7+1 -> Semana 35 | JH7: ="Semana "&(JH9-($AA$4-WEEKDAY($AA$4,2)+1))/7+1 -> Semana 36 | JO7: ="Semana "&(JO9-($AA$4-WEEKDAY($AA$4,2)+1))/7+1 -> Semana 37 | JV7: ="Semana "&(JV9-($AA$4-WEEKDAY($AA$4,2)+1))/7+1 -> Semana 38 | KC7: ="Semana "&(KC9-($AA$4-WEEKDAY($AA$4,2)+1))/7+1 -> Semana 39 | KJ7: ="Semana "&(KJ9-($AA$4-WEEKDAY($AA$4,2)+1))/7+1 -> Semana 40 | KQ7: ="Semana "&(KQ9-($AA$4-WEEKDAY($AA$4,2)+1))/7+1 -> Semana 41 | KX7: ="Semana "&(KX9-($AA$4-WEEKDAY($AA$4,2)+1))/7+1 -> Semana 42 | LE7: ="Semana "&(LE9-($AA$4-WEEKDAY($AA$4,2)+1))/7+1 -> Semana 43 | LL7: ="Semana "&(LL9-($AA$4-WEEKDAY($AA$4,2)+1))/7+1 -> Semana 44 | LS7: ="Semana "&(LS9-($AA$4-WEEKDAY($AA$4,2)+1))/7+1 -> Semana 45 | LZ7: ="Semana "&(LZ9-($AA$4-WEEKDAY($AA$4,2)+1))/7+1 -> Semana 46 | MG7: ="Semana "&(MG9-($AA$4-WEEKDAY($AA$4,2)+1))/7+1 -> Semana 47 | MN7: ="Semana "&(MN9-($AA$4-WEEKDAY($AA$4,2)+1))/7+1 -> Semana 48 | MU7: ="Semana "&(MU9-($AA$4-WEEKDAY($AA$4,2)+1))/7+1 -> Semana 49 | NB7: ="Semana "&(NB9-($AA$4-WEEKDAY($AA$4,2)+1))/7+1 -> Semana 50 | NI7: ="Semana "&(NI9-($AA$4-WEEKDAY($AA$4,2)+1))/7+1 -> Semana 51 | NP7: ="Semana "&(NP9-($AA$4-WEEKDAY($AA$4,2)+1))/7+1 -> Semana 52 | NW7: ="Semana "&(NW9-($AA$4-WEEKDAY($AA$4,2)+1))/7+1 -> Semana 53
E8: Pendientes (P) | F8: =SUM($P$11:$P$10000) -> 0 | H8: Fecha | I8: =TODAY() -> 45905 | W8: =TEXT(W9,"dd mmm")&" - "&TEXT(W9+6,"dd mmm") -> 04 Mar - 10 Mar | AD8: =TEXT(AD9,"dd mmm")&" - "&TEXT(AD9+6,"dd mmm") -> 11 Mar - 17 Mar | AK8: =TEXT(AK9,"dd mmm")&" - "&TEXT(AK9+6,"dd mmm") -> 18 Mar - 24 Mar | AR8: =TEXT(AR9,"dd mmm")&" - "&TEXT(AR9+6,"dd mmm") -> 25 Mar - 31 Mar | AY8: =TEXT(AY9,"dd mmm")&" - "&TEXT(AY9+6,"dd mmm") -> 01 Abr - 07 Abr | BF8: =TEXT(BF9,"dd mmm")&" - "&TEXT(BF9+6,"dd mmm") -> 08 Abr - 14 Abr | BM8: =TEXT(BM9,"dd mmm")&" - "&TEXT(BM9+6,"dd mmm") -> 15 Abr - 21 Abr | BT8: =TEXT(BT9,"dd mmm")&" - "&TEXT(BT9+6,"dd mmm") -> 22 Abr - 28 Abr | CA8: =TEXT(CA9,"dd mmm")&" - "&TEXT(CA9+6,"dd mmm") -> 29 Abr - 05 May | CH8: =TEXT(CH9,"dd mmm")&" - "&TEXT(CH9+6,"dd mmm") -> 06 May - 12 May | CO8: =TEXT(CO9,"dd mmm")&" - "&TEXT(CO9+6,"dd mmm") -> 13 May - 19 May | CV8: =TEXT(CV9,"dd mmm")&" - "&TEXT(CV9+6,"dd mmm") -> 20 May - 26 May | DC8: =TEXT(DC9,"dd mmm")&" - "&TEXT(DC9+6,"dd mmm") -> 27 May - 02 Jun | DJ8: =TEXT(DJ9,"dd mmm")&" - "&TEXT(DJ9+6,"dd mmm") -> 03 Jun - 09 Jun | DQ8: =TEXT(DQ9,"dd mmm")&" - "&TEXT(DQ9+6,"dd mmm") -> 10 Jun - 16 Jun | DX8: =TEXT(DX9,"dd mmm")&" - "&TEXT(DX9+6,"dd mmm") -> 17 Jun - 23 Jun | EE8: =TEXT(EE9,"dd mmm")&" - "&TEXT(EE9+6,"dd mmm") -> 24 Jun - 30 Jun | EL8: =TEXT(EL9,"dd mmm")&" - "&TEXT(EL9+6,"dd mmm") -> 01 Jul - 07 Jul | ES8: =TEXT(ES9,"dd mmm")&" - "&TEXT(ES9+6,"dd mmm") -> 08 Jul - 14 Jul | EZ8: =TEXT(EZ9,"dd mmm")&" - "&TEXT(EZ9+6,"dd mmm") -> 15 Jul - 21 Jul | FG8: =TEXT(FG9,"dd mmm")&" - "&TEXT(FG9+6,"dd mmm") -> 22 Jul - 28 Jul | FN8: =TEXT(FN9,"dd mmm")&" - "&TEXT(FN9+6,"dd mmm") -> 29 Jul - 04 Ago | FU8: =TEXT(FU9,"dd mmm")&" - "&TEXT(FU9+6,"dd mmm") -> 05 Ago - 11 Ago | GB8: =TEXT(GB9,"dd mmm")&" - "&TEXT(GB9+6,"dd mmm") -> 12 Ago - 18 Ago | GI8: =TEXT(GI9,"dd mmm")&" - "&TEXT(GI9+6,"dd mmm") -> 19 Ago - 25 Ago | GP8: =TEXT(GP9,"dd mmm")&" - "&TEXT(GP9+6,"dd mmm") -> 26 Ago - 01 Set | GW8: =TEXT(GW9,"dd mmm")&" - "&TEXT(GW9+6,"dd mmm") -> 02 Set - 08 Set | HD8: =TEXT(HD9,"dd mmm")&" - "&TEXT(HD9+6,"dd mmm") -> 09 Set - 15 Set | HK8: =TEXT(HK9,"dd mmm")&" - "&TEXT(HK9+6,"dd mmm") -> 16 Set - 22 Set | HR8: =TEXT(HR9,"dd mmm")&" - "&TEXT(HR9+6,"dd mmm") -> 23 Set - 29 Set | HY8: =TEXT(HY9,"dd mmm")&" - "&TEXT(HY9+6,"dd mmm") -> 30 Set - 06 Oct | IF8: =TEXT(IF9,"dd mmm")&" - "&TEXT(IF9+6,"dd mmm") -> 07 Oct - 13 Oct | IM8: =TEXT(IM9,"dd mmm")&" - "&TEXT(IM9+6,"dd mmm") -> 14 Oct - 20 Oct | IT8: =TEXT(IT9,"dd mmm")&" - "&TEXT(IT9+6,"dd mmm") -> 21 Oct - 27 Oct | JA8: =TEXT(JA9,"dd mmm")&" - "&TEXT(JA9+6,"dd mmm") -> 28 Oct - 03 Nov | JH8: =TEXT(JH9,"dd mmm")&" - "&TEXT(JH9+6,"dd mmm") -> 04 Nov - 10 Nov | JO8: =TEXT(JO9,"dd mmm")&" - "&TEXT(JO9+6,"dd mmm") -> 11 Nov - 17 Nov | JV8: =TEXT(JV9,"dd mmm")&" - "&TEXT(JV9+6,"dd mmm") -> 18 Nov - 24 Nov | KC8: =TEXT(KC9,"dd mmm")&" - "&TEXT(KC9+6,"dd mmm") -> 25 Nov - 01 Dic | KJ8: =TEXT(KJ9,"dd mmm")&" - "&TEXT(KJ9+6,"dd mmm") -> 02 Dic - 08 Dic | KQ8: =TEXT(KQ9,"dd mmm")&" - "&TEXT(KQ9+6,"dd mmm") -> 09 Dic - 15 Dic | KX8: =TEXT(KX9,"dd mmm")&" - "&TEXT(KX9+6,"dd mmm") -> 16 Dic - 22 Dic | LE8: =TEXT(LE9,"dd mmm")&" - "&TEXT(LE9+6,"dd mmm") -> 23 Dic - 29 Dic | LL8: =TEXT(LL9,"dd mmm")&" - "&TEXT(LL9+6,"dd mmm") -> 30 Dic - 05 Ene | LS8: =TEXT(LS9,"dd mmm")&" - "&TEXT(LS9+6,"dd mmm") -> 06 Ene - 12 Ene | LZ8: =TEXT(LZ9,"dd mmm")&" - "&TEXT(LZ9+6,"dd mmm") -> 13 Ene - 19 Ene | MG8: =TEXT(MG9,"dd mmm")&" - "&TEXT(MG9+6,"dd mmm") -> 20 Ene - 26 Ene | MN8: =TEXT(MN9,"dd mmm")&" - "&TEXT(MN9+6,"dd mmm") -> 27 Ene - 02 Feb | MU8: =TEXT(MU9,"dd mmm")&" - "&TEXT(MU9+6,"dd mmm") -> 03 Feb - 09 Feb | NB8: =TEXT(NB9,"dd mmm")&" - "&TEXT(NB9+6,"dd mmm") -> 10 Feb - 16 Feb | NI8: =TEXT(NI9,"dd mmm")&" - "&TEXT(NI9+6,"dd mmm") -> 17 Feb - 23 Feb | NP8: =TEXT(NP9,"dd mmm")&" - "&TEXT(NP9+6,"dd mmm") -> 24 Feb - 02 Mar | NW8: =TEXT(NW9,"dd mmm")&" - "&TEXT(NW9+6,"dd mmm") -> 03 Mar - 09 Mar
L9: ESTADO | Q9: INDICADORES | S9: PRÓXIMO | W9: =AA4-WEEKDAY(AA4,2)+1 -> 45355 | X9: =W9+1 -> 45356 | Y9: =X9+1 -> 45357 | Z9: =Y9+1 -> 45358 | AA9: =Z9+1 -> 45359 | AB9: =AA9+1 -> 45360 | AC9: =AB9+1 -> 45361 | AD9: =AC9+1 -> 45362 | AE9: =AD9+1 -> 45363 | ... OC9: =OB9+1 -> 45725
B10: Nro | C10: Cód | D10: Maquinaria | E10: Actividad | F10: Primer Manten. del periodo | G10: Horómetro inicial | H10: Horómetro a la fecha | I10: Diferencia (horas) | J10: Frecuencia (horas) | K10: Frecuencia (días) | L10: PR | M10: E | N10: R | O10: N | P10: P | Q10: Cumplimiento | R10: Efectividad | S10: Proximo Mnnto | T10: Faltan días | U10: Faltan horas | W10: =PROPER(TEXT(W9,"ddd")) -> Lun | X10: =PROPER(TEXT(X9,"ddd")) -> Mar | Y10: =PROPER(TEXT(Y9,"ddd")) -> Mié | Z10: =PROPER(TEXT(Z9,"ddd")) -> Jue | AA10: =PROPER(TEXT(AA9,"ddd")) -> Vie | AB10: =PROPER(TEXT(AB9,"ddd")) -> Sáb | AC10: =PROPER(TEXT(AC9,"ddd")) -> Dom | AD10: =PROPER(TEXT(AD9,"ddd")) -> Lun | ... OC10: =PROPER(TEXT(OC9,"ddd")) -> Dom
B11: =IF(C11="","",ROW(A1)) | D11: =IFERROR(VLOOKUP(C11,Tabla_Equipos[],2,FALSE),"") | H11: =IFERROR(VLOOKUP(C11,Tabla_Equipos[],5,FALSE),"") | I11: =IF(G11="","",H11-G11) | K11: =IFERROR(ROUNDUP(J11/(I11/($I$8-F11)),0),"") | L11: {=IFERROR(SUM((($W$9:$OC$9>=$F11)*(MOD($W$9:$OC$9-$F11,$K11)+1)=1)*1),"")} | M11: =IF($L11="","",COUNTIF($W11:$OC11,M$10)) | N11: =IF($L11="","",COUNTIF($W11:$OC11,N$10)) | O11: =IF($L11="","",COUNTIF($W11:$OC11,O$10)) | P11: =IF($L11="","",L11-M11-O11) | Q11: =IFERROR(M11/(M11+O11),"") | R11: =IFERROR(M11/(M11+N11),"") | S11: {=IFERROR(INDEX($W$9:$OC$9,MATCH("P",W11:OC11,0)),IFERROR(INDEX($W$9:$OC$9,1,MATCH(M11+O11+1,($W$9:$OC$9>=$F11)*(QUOTIENT($W$9:$OC$9-$F11,$K11)+1),0)),""))} | T11: =IF(S11="","",IF(S11-TODAY()<0,"",S11-TODAY())) | U11: =IFERROR(J11-MOD(I11,J11),"")
B12: =IF(C12="","",ROW(A2)) | D12: =IFERROR(VLOOKUP(C12,Tabla_Equipos[],2,FALSE),"") | H12: =IFERROR(VLOOKUP(C12,Tabla_Equipos[],5,FALSE),"") | I12: =IF(G12="","",H12-G12) | K12: =IFERROR(ROUNDUP(J12/(I12/($I$8-F12)),0),"") | L12: {=IFERROR(SUM((($W$9:$OC$9>=$F12)*(MOD($W$9:$OC$9-$F12,$K12)+1)=1)*1),"")} | M12: =IF($L12="","",COUNTIF($W12:$OC12,M$10)) | N12: =IF($L12="","",COUNTIF($W12:$OC12,N$10)) | O12: =IF($L12="","",COUNTIF($W12:$OC12,O$10)) | P12: =IF($L12="","",L12+COUNTIF($W12:$OC12,P$10)-M12-O12) | Q12: =IFERROR(M12/(M12+O12),"") | R12: =IFERROR(M12/(M12+N12),"") | S12: {=IFERROR(INDEX($W$9:$OC$9,MATCH("P",W12:OC12,0)),IFERROR(INDEX($W$9:$OC$9,1,MATCH(M12+O12+1,($W$9:$OC$9>=$F12)*(QUOTIENT($W$9:$OC$9-$F12,$K12)+1),0)),""))} | T12: =IF(S12="","",IF(S12-TODAY()<0,"",S12-TODAY())) | U12: =IFERROR(J12-MOD(I12,J12),"")
B13: =IF(C13="","",ROW(A3)) | D13: =IFERROR(VLOOKUP(C13,Tabla_Equipos[],2,FALSE),"") | H13: =IFERROR(VLOOKUP(C13,Tabla_Equipos[],5,FALSE),"") | I13: =IF(G13="","",H13-G13) | K13: =IFERROR(ROUNDUP(J13/(I13/($I$8-F13)),0),"") | L13: {=IFERROR(SUM((($W$9:$OC$9>=$F13)*(MOD($W$9:$OC$9-$F13,$K13)+1)=1)*1),"")} | M13: =IF($L13="","",COUNTIF($W13:$OC13,M$10)) | N13: =IF($L13="","",COUNTIF($W13:$OC13,N$10)) | O13: =IF($L13="","",COUNTIF($W13:$OC13,O$10)) | P13: =IF($L13="","",L13+COUNTIF($W13:$OC13,P$10)-M13-O13) | Q13: =IFERROR(M13/(M13+O13),"") | R13: =IFERROR(M13/(M13+N13),"") | S13: {=IFERROR(INDEX($W$9:$OC$9,MATCH("P",W13:OC13,0)),IFERROR(INDEX($W$9:$OC$9,1,MATCH(M13+O13+1,($W$9:$OC$9>=$F13)*(QUOTIENT($W$9:$OC$9-$F13,$K13)+1),0)),""))} | T13: =IF(S13="","",IF(S13-TODAY()<0,"",S13-TODAY())) | U13: =IFERROR(J13-MOD(I13,J13),"")
B14: =IF(C14="","",ROW(A4)) | D14: =IFERROR(VLOOKUP(C14,Tabla_Equipos[],2,FALSE),"") | H14: =IFERROR(VLOOKUP(C14,Tabla_Equipos[],5,FALSE),"") | I14: =IF(G14="","",H14-G14) | K14: =IFERROR(ROUNDUP(J14/(I14/($I$8-F14)),0),"") | L14: {=IFERROR(SUM((($W$9:$OC$9>=$F14)*(MOD($W$9:$OC$9-$F14,$K14)+1)=1)*1),"")} | M14: =IF($L14="","",COUNTIF($W14:$OC14,M$10)) | N14: =IF($L14="","",COUNTIF($W14:$OC14,N$10)) | O14: =IF($L14="","",COUNTIF($W14:$OC14,O$10)) | P14: =IF($L14="","",L14+COUNTIF($W14:$OC14,P$10)-M14-O14) | Q14: =IFERROR(M14/(M14+O14),"") | R14: =IFERROR(M14/(M14+N14),"") | S14: {=IFERROR(INDEX($W$9:$OC$9,MATCH("P",W14:OC14,0)),IFERROR(INDEX($W$9:$OC$9,1,MATCH(M14+O14+1,($W$9:$OC$9>=$F14)*(QUOTIENT($W$9:$OC$9-$F14,$K14)+1),0)),""))} | T14: =IF(S14="","",IF(S14-TODAY()<0,"",S14-TODAY())) | U14: =IFERROR(J14-MOD(I14,J14),"")
B15: =IF(C15="","",ROW(A5)) | D15: =IFERROR(VLOOKUP(C15,Tabla_Equipos[],2,FALSE),"") | H15: =IFERROR(VLOOKUP(C15,Tabla_Equipos[],5,FALSE),"") | I15: =IF(G15="","",H15-G15) | K15: =IFERROR(ROUNDUP(J15/(I15/($I$8-F15)),0),"") | L15: {=IFERROR(SUM((($W$9:$OC$9>=$F15)*(MOD($W$9:$OC$9-$F15,$K15)+1)=1)*1),"")} | M15: =IF($L15="","",COUNTIF($W15:$OC15,M$10)) | N15: =IF($L15="","",COUNTIF($W15:$OC15,N$10)) | O15: =IF($L15="","",COUNTIF($W15:$OC15,O$10)) | P15: =IF($L15="","",L15+COUNTIF($W15:$OC15,P$10)-M15-O15) | Q15: =IFERROR(M15/(M15+O15),"") | R15: =IFERROR(M15/(M15+N15),"") | S15: {=IFERROR(INDEX($W$9:$OC$9,MATCH("P",W15:OC15,0)),IFERROR(INDEX($W$9:$OC$9,1,MATCH(M15+O15+1,($W$9:$OC$9>=$F15)*(QUOTIENT($W$9:$OC$9-$F15,$K15)+1),0)),""))} | T15: =IF(S15="","",IF(S15-TODAY()<0,"",S15-TODAY())) | U15: =IFERROR(J15-MOD(I15,J15),"")
B16: =IF(C16="","",ROW(A6)) | D16: =IFERROR(VLOOKUP(C16,Tabla_Equipos[],2,FALSE),"") | H16: =IFERROR(VLOOKUP(C16,Tabla_Equipos[],5,FALSE),"") | I16: =IF(G16="","",H16-G16) | K16: =IFERROR(ROUNDUP(J16/(I16/($I$8-F16)),0),"") | L16: {=IFERROR(SUM((($W$9:$OC$9>=$F16)*(MOD($W$9:$OC$9-$F16,$K16)+1)=1)*1),"")} | M16: =IF($L16="","",COUNTIF($W16:$OC16,M$10)) | N16: =IF($L16="","",COUNTIF($W16:$OC16,N$10)) | O16: =IF($L16="","",COUNTIF($W16:$OC16,O$10)) | P16: =IF($L16="","",L16+COUNTIF($W16:$OC16,P$10)-M16-O16) | Q16: =IFERROR(M16/(M16+O16),"") | R16: =IFERROR(M16/(M16+N16),"") | S16: {=IFERROR(INDEX($W$9:$OC$9,MATCH("P",W16:OC16,0)),IFERROR(INDEX($W$9:$OC$9,1,MATCH(M16+O16+1,($W$9:$OC$9>=$F16)*(QUOTIENT($W$9:$OC$9-$F16,$K16)+1),0)),""))} | T16: =IF(S16="","",IF(S16-TODAY()<0,"",S16-TODAY())) | U16: =IFERROR(J16-MOD(I16,J16),"")
B17: =IF(C17="","",ROW(A7)) | D17: =IFERROR(VLOOKUP(C17,Tabla_Equipos[],2,FALSE),"") | H17: =IFERROR(VLOOKUP(C17,Tabla_Equipos[],5,FALSE),"") | I17: =IF(G17="","",H17-G17) | K17: =IFERROR(ROUNDUP(J17/(I17/($I$8-F17)),0),"") | L17: {=IFERROR(SUM((($W$9:$OC$9>=$F17)*(MOD($W$9:$OC$9-$F17,$K17)+1)=1)*1),"")} | M17: =IF($L17="","",COUNTIF($W17:$OC17,M$10)) | N17: =IF($L17="","",COUNTIF($W17:$OC17,N$10)) | O17: =IF($L17="","",COUNTIF($W17:$OC17,O$10)) | P17: =IF($L17="","",L17+COUNTIF($W17:$OC17,P$10)-M17-O17) | Q17: =IFERROR(M17/(M17+O17),"") | R17: =IFERROR(M17/(M17+N17),"") | S17: {=IFERROR(INDEX($W$9:$OC$9,MATCH("P",W17:OC17,0)),IFERROR(INDEX($W$9:$OC$9,1,MATCH(M17+O17+1,($W$9:$OC$9>=$F17)*(QUOTIENT($W$9:$OC$9-$F17,$K17)+1),0)),""))} | T17: =IF(S17="","",IF(S17-TODAY()<0,"",S17-TODAY())) | U17: =IFERROR(J17-MOD(I17,J17),"")
B18: =IF(C18="","",ROW(A8)) | D18: =IFERROR(VLOOKUP(C18,Tabla_Equipos[],2,FALSE),"") | H18: =IFERROR(VLOOKUP(C18,Tabla_Equipos[],5,FALSE),"") | I18: =IF(G18="","",H18-G18) | K18: =IFERROR(ROUNDUP(J18/(I18/($I$8-F18)),0),"") | L18: {=IFERROR(SUM((($W$9:$OC$9>=$F18)*(MOD($W$9:$OC$9-$F18,$K18)+1)=1)*1),"")} | M18: =IF($L18="","",COUNTIF($W18:$OC18,M$10)) | N18: =IF($L18="","",COUNTIF($W18:$OC18,N$10)) | O18: =IF($L18="","",COUNTIF($W18:$OC18,O$10)) | P18: =IF($L18="","",L18+COUNTIF($W18:$OC18,P$10)-M18-O18) | Q18: =IFERROR(M18/(M18+O18),"") | R18: =IFERROR(M18/(M18+N18),"") | S18: {=IFERROR(INDEX($W$9:$OC$9,MATCH("P",W18:OC18,0)),IFERROR(INDEX($W$9:$OC$9,1,MATCH(M18+O18+1,($W$9:$OC$9>=$F18)*(QUOTIENT($W$9:$OC$9-$F18,$K18)+1),0)),""))} | T18: =IF(S18="","",IF(S18-TODAY()<0,"",S18-TODAY())) | U18: =IFERROR(J18-MOD(I18,J18),"")
B19: =IF(C19="","",ROW(A9)) | D19: =IFERROR(VLOOKUP(C19,Tabla_Equipos[],2,FALSE),"") | H19: =IFERROR(VLOOKUP(C19,Tabla_Equipos[],5,FALSE),"") | I19: =IF(G19="","",H19-G19) | K19: =IFERROR(ROUNDUP(J19/(I19/($I$8-F19)),0),"") | L19: {=IFERROR(SUM((($W$9:$OC$9>=$F19)*(MOD($W$9:$OC$9-$F19,$K19)+1)=1)*1),"")} | M19: =IF($L19="","",COUNTIF($W19:$OC19,M$10)) | N19: =IF($L19="","",COUNTIF($W19:$OC19,N$10)) | O19: =IF($L19="","",COUNTIF($W19:$OC19,O$10)) | P19: =IF($L19="","",L19+COUNTIF($W19:$OC19,P$10)-M19-O19) | Q19: =IFERROR(M19/(M19+O19),"") | R19: =IFERROR(M19/(M19+N19),"") | S19: {=IFERROR(INDEX($W$9:$OC$9,MATCH("P",W19:OC19,0)),IFERROR(INDEX($W$9:$OC$9,1,MATCH(M19+O19+1,($W$9:$OC$9>=$F19)*(QUOTIENT($W$9:$OC$9-$F19,$K19)+1),0)),""))} | T19: =IF(S19="","",IF(S19-TODAY()<0,"",S19-TODAY())) | U19: =IFERROR(J19-MOD(I19,J19),"")
B20: =IF(C20="","",ROW(A10)) | D20: =IFERROR(VLOOKUP(C20,Tabla_Equipos[],2,FALSE),"") | H20: =IFERROR(VLOOKUP(C20,Tabla_Equipos[],5,FALSE),"") | I20: =IF(G20="","",H20-G20) | K20: =IFERROR(ROUNDUP(J20/(I20/($I$8-F20)),0),"") | L20: {=IFERROR(SUM((($W$9:$OC$9>=$F20)*(MOD($W$9:$OC$9-$F20,$K20)+1)=1)*1),"")} | M20: =IF($L20="","",COUNTIF($W20:$OC20,M$10)) | N20: =IF($L20="","",COUNTIF($W20:$OC20,N$10)) | O20: =IF($L20="","",COUNTIF($W20:$OC20,O$10)) | P20: =IF($L20="","",L20+COUNTIF($W20:$OC20,P$10)-M20-O20) | Q20: =IFERROR(M20/(M20+O20),"") | R20: =IFERROR(M20/(M20+N20),"") | S20: {=IFERROR(INDEX($W$9:$OC$9,MATCH("P",W20:OC20,0)),IFERROR(INDEX($W$9:$OC$9,1,MATCH(M20+O20+1,($W$9:$OC$9>=$F20)*(QUOTIENT($W$9:$OC$9-$F20,$K20)+1),0)),""))} | T20: =IF(S20="","",IF(S20-TODAY()<0,"",S20-TODAY())) | U20: =IFERROR(J20-MOD(I20,J20),"")
B21: =IF(C21="","",ROW(A11)) | D21: =IFERROR(VLOOKUP(C21,Tabla_Equipos[],2,FALSE),"") | H21: =IFERROR(VLOOKUP(C21,Tabla_Equipos[],5,FALSE),"") | I21: =IF(G21="","",H21-G21) | K21: =IFERROR(ROUNDUP(J21/(I21/($I$8-F21)),0),"") | L21: {=IFERROR(SUM((($W$9:$OC$9>=$F21)*(MOD($W$9:$OC$9-$F21,$K21)+1)=1)*1),"")} | M21: =IF($L21="","",COUNTIF($W21:$OC21,M$10)) | N21: =IF($L21="","",COUNTIF($W21:$OC21,N$10)) | O21: =IF($L21="","",COUNTIF($W21:$OC21,O$10)) | P21: =IF($L21="","",L21+COUNTIF($W21:$OC21,P$10)-M21-O21) | Q21: =IFERROR(M21/(M21+O21),"") | R21: =IFERROR(M21/(M21+N21),"") | S21: {=IFERROR(INDEX($W$9:$OC$9,MATCH("P",W21:OC21,0)),IFERROR(INDEX($W$9:$OC$9,1,MATCH(M21+O21+1,($W$9:$OC$9>=$F21)*(QUOTIENT($W$9:$OC$9-$F21,$K21)+1),0)),""))} | T21: =IF(S21="","",IF(S21-TODAY()<0,"",S21-TODAY())) | U21: =IFERROR(J21-MOD(I21,J21),"")
B22: =IF(C22="","",ROW(A12)) | D22: =IFERROR(VLOOKUP(C22,Tabla_Equipos[],2,FALSE),"") | H22: =IFERROR(VLOOKUP(C22,Tabla_Equipos[],5,FALSE),"") | I22: =IF(G22="","",H22-G22) | K22: =IFERROR(ROUNDUP(J22/(I22/($I$8-F22)),0),"") | L22: {=IFERROR(SUM((($W$9:$OC$9>=$F22)*(MOD($W$9:$OC$9-$F22,$K22)+1)=1)*1),"")} | M22: =IF($L22="","",COUNTIF($W22:$OC22,M$10)) | N22: =IF($L22="","",COUNTIF($W22:$OC22,N$10)) | O22: =IF($L22="","",COUNTIF($W22:$OC22,O$10)) | P22: =IF($L22="","",L22+COUNTIF($W22:$OC22,P$10)-M22-O22) | Q22: =IFERROR(M22/(M22+O22),"") | R22: =IFERROR(M22/(M22+N22),"") | S22: {=IFERROR(INDEX($W$9:$OC$9,MATCH("P",W22:OC22,0)),IFERROR(INDEX($W$9:$OC$9,1,MATCH(M22+O22+1,($W$9:$OC$9>=$F22)*(QUOTIENT($W$9:$OC$9-$F22,$K22)+1),0)),""))} | T22: =IF(S22="","",IF(S22-TODAY()<0,"",S22-TODAY())) | U22: =IFERROR(J22-MOD(I22,J22),"")
B23: =IF(C23="","",ROW(A13)) | D23: =IFERROR(VLOOKUP(C23,Tabla_Equipos[],2,FALSE),"") | H23: =IFERROR(VLOOKUP(C23,Tabla_Equipos[],5,FALSE),"") | I23: =IF(G23="","",H23-G23) | K23: =IFERROR(ROUNDUP(J23/(I23/($I$8-F23)),0),"") | L23: {=IFERROR(SUM((($W$9:$OC$9>=$F23)*(MOD($W$9:$OC$9-$F23,$K23)+1)=1)*1),"")} | M23: =IF($L23="","",COUNTIF($W23:$OC23,M$10)) | N23: =IF($L23="","",COUNTIF($W23:$OC23,N$10)) | O23: =IF($L23="","",COUNTIF($W23:$OC23,O$10)) | P23: =IF($L23="","",L23+COUNTIF($W23:$OC23,P$10)-M23-O23) | Q23: =IFERROR(M23/(M23+O23),"") | R23: =IFERROR(M23/(M23+N23),"") | S23: {=IFERROR(INDEX($W$9:$OC$9,MATCH("P",W23:OC23,0)),IFERROR(INDEX($W$9:$OC$9,1,MATCH(M23+O23+1,($W$9:$OC$9>=$F23)*(QUOTIENT($W$9:$OC$9-$F23,$K23)+1),0)),""))} | T23: =IF(S23="","",IF(S23-TODAY()<0,"",S23-TODAY())) | U23: =IFERROR(J23-MOD(I23,J23),"")
... B34: =IF(C34="","",ROW(A24)) | D34: =IFERROR(VLOOKUP(C34,Tabla_Equipos[],2,FALSE),"") | H34: =IFERROR(VLOOKUP(C34,Tabla_Equipos[],5,FALSE),"") | I34: =IF(G34="","",H34-G34) | K34: =IFERROR(ROUNDUP(J34/(I34/($I$8-F34)),0),"") | L34: {=IFERROR(SUM((($W$9:$OC$9>=$F34)*(MOD($W$9:$OC$9-$F34,$K34)+1)=1)*1),"")} | M34: =IF($L34="","",COUNTIF($W34:$OC34,M$10)) | N34: =IF($L34="","",COUNTIF($W34:$OC34,N$10)) | O34: =IF($L34="","",COUNTIF($W34:$OC34,O$10)) | P34: =IF($L34="","",L34+COUNTIF($W34:$OC34,P$10)-M34-O34) | Q34: =IFERROR(M34/(M34+O34),"") | R34: =IFERROR(M34/(M34+N34),"") | S34: {=IFERROR(INDEX($W$9:$OC$9,MATCH("P",W34:OC34,0)),IFERROR(INDEX($W$9:$OC$9,1,MATCH(M34+O34+1,($W$9:$OC$9>=$F34)*(QUOTIENT($W$9:$OC$9-$F34,$K34)+1),0)),""))} | T34: =IF(S34="","",IF(S34-TODAY()<0,"",S34-TODAY())) | U34: =IFERROR(J34-MOD(I34,J34),"")
D35: =IFERROR(VLOOKUP(C35,Tabla_Equipos[],2,FALSE),"") | H35: =IFERROR(VLOOKUP(C35,Tabla_Equipos[],5,FALSE),"") | I35: =IF(G35="","",H35-G35) | K35: =IFERROR(ROUNDUP(J35/(I35/($I$8-F35)),0),"") | L35: {=IFERROR(SUM((($W$9:$OC$9>=$F35)*(MOD($W$9:$OC$9-$F35,$K35)+1)=1)*1),"")} | M35: =IF($L35="","",COUNTIF($W35:$OC35,M$10)) | N35: =IF($L35="","",COUNTIF($W35:$OC35,N$10)) | O35: =IF($L35="","",COUNTIF($W35:$OC35,O$10)) | P35: =IF($L35="","",L35+COUNTIF($W35:$OC35,P$10)-M35-O35) | Q35: =IFERROR(M35/(M35+O35),"") | R35: =IFERROR(M35/(M35+N35),"") | S35: {=IFERROR(INDEX($W$9:$OC$9,MATCH("P",W35:OC35,0)),IFERROR(INDEX($W$9:$OC$9,1,MATCH(M35+O35+1,($W$9:$OC$9>=$F35)*(QUOTIENT($W$9:$OC$9-$F35,$K35)+1),0)),""))} | T35: =IF(S35="","",IF(S35-TODAY()<0,"",S35-TODAY())) | U35: =IFERROR(J35-MOD(I35,J35),"")
D36: =IFERROR(VLOOKUP(C36,Tabla_Equipos[],2,FALSE),"") | H36: =IFERROR(VLOOKUP(C36,Tabla_Equipos[],5,FALSE),"") | I36: =IF(G36="","",H36-G36) | K36: =IFERROR(ROUNDUP(J36/(I36/($I$8-F36)),0),"") | L36: {=IFERROR(SUM((($W$9:$OC$9>=$F36)*(MOD($W$9:$OC$9-$F36,$K36)+1)=1)*1),"")} | M36: =IF($L36="","",COUNTIF($W36:$OC36,M$10)) | N36: =IF($L36="","",COUNTIF($W36:$OC36,N$10)) | O36: =IF($L36="","",COUNTIF($W36:$OC36,O$10)) | P36: =IF($L36="","",L36+COUNTIF($W36:$OC36,P$10)-M36-O36) | Q36: =IFERROR(M36/(M36+O36),"") | R36: =IFERROR(M36/(M36+N36),"") | S36: {=IFERROR(INDEX($W$9:$OC$9,MATCH("P",W36:OC36,0)),IFERROR(INDEX($W$9:$OC$9,1,MATCH(M36+O36+1,($W$9:$OC$9>=$F36)*(QUOTIENT($W$9:$OC$9-$F36,$K36)+1),0)),""))} | T36: =IF(S36="","",IF(S36-TODAY()<0,"",S36-TODAY())) | U36: =IFERROR(J36-MOD(I36,J36),"")
D37: =IFERROR(VLOOKUP(C37,Tabla_Equipos[],2,FALSE),"") | H37: =IFERROR(VLOOKUP(C37,Tabla_Equipos[],5,FALSE),"") | I37: =IF(G37="","",H37-G37) | K37: =IFERROR(ROUNDUP(J37/(I37/($I$8-F37)),0),"") | L37: {=IFERROR(SUM((($W$9:$OC$9>=$F37)*(MOD($W$9:$OC$9-$F37,$K37)+1)=1)*1),"")} | M37: =IF($L37="","",COUNTIF($W37:$OC37,M$10)) | N37: =IF($L37="","",COUNTIF($W37:$OC37,N$10)) | O37: =IF($L37="","",COUNTIF($W37:$OC37,O$10)) | P37: =IF($L37="","",L37+COUNTIF($W37:$OC37,P$10)-M37-O37) | Q37: =IFERROR(M37/(M37+O37),"") | R37: =IFERROR(M37/(M37+N37),"") | S37: {=IFERROR(INDEX($W$9:$OC$9,MATCH("P",W37:OC37,0)),IFERROR(INDEX($W$9:$OC$9,1,MATCH(M37+O37+1,($W$9:$OC$9>=$F37)*(QUOTIENT($W$9:$OC$9-$F37,$K37)+1),0)),""))} | T37: =IF(S37="","",IF(S37-TODAY()<0,"",S37-TODAY())) | U37: =IFERROR(J37-MOD(I37,J37),"")
B38: =IF(C38="","",ROW(A28)) | D38: =IFERROR(VLOOKUP(C38,Tabla_Equipos[],2,FALSE),"") | H38: =IFERROR(VLOOKUP(C38,Tabla_Equipos[],5,FALSE),"") | I38: =IF(G38="","",H38-G38) | K38: =IFERROR(ROUNDUP(J38/(I38/($I$8-F38)),0),"") | L38: {=IFERROR(SUM((($W$9:$OC$9>=$F38)*(MOD($W$9:$OC$9-$F38,$K38)+1)=1)*1),"")} | M38: =IF($L38="","",COUNTIF($W38:$OC38,M$10)) | N38: =IF($L38="","",COUNTIF($W38:$OC38,N$10)) | O38: =IF($L38="","",COUNTIF($W38:$OC38,O$10)) | P38: =IF($L38="","",L38+COUNTIF($W38:$OC38,P$10)-M38-O38) | Q38: =IFERROR(M38/(M38+O38),"") | R38: =IFERROR(M38/(M38+N38),"") | S38: {=IFERROR(INDEX($W$9:$OC$9,MATCH("P",W38:OC38,0)),IFERROR(INDEX($W$9:$OC$9,1,MATCH(M38+O38+1,($W$9:$OC$9>=$F38)*(QUOTIENT($W$9:$OC$9-$F38,$K38)+1),0)),""))} | T38: =IF(S38="","",IF(S38-TODAY()<0,"",S38-TODAY())) | U38: =IFERROR(J38-MOD(I38,J38),"")
B39: =IF(C39="","",ROW(A29)) | D39: =IFERROR(VLOOKUP(C39,Tabla_Equipos[],2,FALSE),"") | H39: =IFERROR(VLOOKUP(C39,Tabla_Equipos[],5,FALSE),"") | I39: =IF(G39="","",H39-G39) | K39: =IFERROR(ROUNDUP(J39/(I39/($I$8-F39)),0),"") | L39: {=IFERROR(SUM((($W$9:$OC$9>=$F39)*(MOD($W$9:$OC$9-$F39,$K39)+1)=1)*1),"")} | M39: =IF($L39="","",COUNTIF($W39:$OC39,M$10)) | N39: =IF($L39="","",COUNTIF($W39:$OC39,N$10)) | O39: =IF($L39="","",COUNTIF($W39:$OC39,O$10)) | P39: =IF($L39="","",L39+COUNTIF($W39:$OC39,P$10)-M39-O39) | Q39: =IFERROR(M39/(M39+O39),"") | R39: =IFERROR(M39/(M39+N39),"") | S39: {=IFERROR(INDEX($W$9:$OC$9,MATCH("P",W39:OC39,0)),IFERROR(INDEX($W$9:$OC$9,1,MATCH(M39+O39+1,($W$9:$OC$9>=$F39)*(QUOTIENT($W$9:$OC$9-$F39,$K39)+1),0)),""))} | T39: =IF(S39="","",IF(S39-TODAY()<0,"",S39-TODAY())) | U39: =IFERROR(J39-MOD(I39,J39),"")
B40: =IF(C40="","",ROW(A30)) | D40: =IFERROR(VLOOKUP(C40,Tabla_Equipos[],2,FALSE),"") | H40: =IFERROR(VLOOKUP(C40,Tabla_Equipos[],5,FALSE),"") | I40: =IF(G40="","",H40-G40) | K40: =IFERROR(ROUNDUP(J40/(I40/($I$8-F40)),0),"") | L40: {=IFERROR(SUM((($W$9:$OC$9>=$F40)*(MOD($W$9:$OC$9-$F40,$K40)+1)=1)*1),"")} | M40: =IF($L40="","",COUNTIF($W40:$OC40,M$10)) | N40: =IF($L40="","",COUNTIF($W40:$OC40,N$10)) | O40: =IF($L40="","",COUNTIF($W40:$OC40,O$10)) | P40: =IF($L40="","",L40+COUNTIF($W40:$OC40,P$10)-M40-O40) | Q40: =IFERROR(M40/(M40+O40),"") | R40: =IFERROR(M40/(M40+N40),"") | S40: {=IFERROR(INDEX($W$9:$OC$9,MATCH("P",W40:OC40,0)),IFERROR(INDEX($W$9:$OC$9,1,MATCH(M40+O40+1,($W$9:$OC$9>=$F40)*(QUOTIENT($W$9:$OC$9-$F40,$K40)+1),0)),""))} | T40: =IF(S40="","",IF(S40-TODAY()<0,"",S40-TODAY())) | U40: =IFERROR(J40-MOD(I40,J40),"")
B41: =IF(C41="","",ROW(A31)) | D41: =IFERROR(VLOOKUP(C41,Tabla_Equipos[],2,FALSE),"") | H41: =IFERROR(VLOOKUP(C41,Tabla_Equipos[],5,FALSE),"") | I41: =IF(G41="","",H41-G41) | K41: =IFERROR(ROUNDUP(J41/(I41/($I$8-F41)),0),"") | L41: {=IFERROR(SUM((($W$9:$OC$9>=$F41)*(MOD($W$9:$OC$9-$F41,$K41)+1)=1)*1),"")} | M41: =IF($L41="","",COUNTIF($W41:$OC41,M$10)) | N41: =IF($L41="","",COUNTIF($W41:$OC41,N$10)) | O41: =IF($L41="","",COUNTIF($W41:$OC41,O$10)) | P41: =IF($L41="","",L41+COUNTIF($W41:$OC41,P$10)-M41-O41) | Q41: =IFERROR(M41/(M41+O41),"") | R41: =IFERROR(M41/(M41+N41),"") | S41: {=IFERROR(INDEX($W$9:$OC$9,MATCH("P",W41:OC41,0)),IFERROR(INDEX($W$9:$OC$9,1,MATCH(M41+O41+1,($W$9:$OC$9>=$F41)*(QUOTIENT($W$9:$OC$9-$F41,$K41)+1),0)),""))} | T41: =IF(S41="","",IF(S41-TODAY()<0,"",S41-TODAY())) | U41: =IFERROR(J41-MOD(I41,J41),"")
B42: =IF(C42="","",ROW(A32)) | D42: =IFERROR(VLOOKUP(C42,Tabla_Equipos[],2,FALSE),"") | H42: =IFERROR(VLOOKUP(C42,Tabla_Equipos[],5,FALSE),"") | I42: =IF(G42="","",H42-G42) | K42: =IFERROR(ROUNDUP(J42/(I42/($I$8-F42)),0),"") | L42: {=IFERROR(SUM((($W$9:$OC$9>=$F42)*(MOD($W$9:$OC$9-$F42,$K42)+1)=1)*1),"")} | M42: =IF($L42="","",COUNTIF($W42:$OC42,M$10)) | N42: =IF($L42="","",COUNTIF($W42:$OC42,N$10)) | O42: =IF($L42="","",COUNTIF($W42:$OC42,O$10)) | P42: =IF($L42="","",L42+COUNTIF($W42:$OC42,P$10)-M42-O42) | Q42: =IFERROR(M42/(M42+O42),"") | R42: =IFERROR(M42/(M42+N42),"") | S42: {=IFERROR(INDEX($W$9:$OC$9,MATCH("P",W42:OC42,0)),IFERROR(INDEX($W$9:$OC$9,1,MATCH(M42+O42+1,($W$9:$OC$9>=$F42)*(QUOTIENT($W$9:$OC$9-$F42,$K42)+1),0)),""))} | T42: =IF(S42="","",IF(S42-TODAY()<0,"",S42-TODAY())) | U42: =IFERROR(J42-MOD(I42,J42),"")
B43: =IF(C43="","",ROW(A33)) | D43: =IFERROR(VLOOKUP(C43,Tabla_Equipos[],2,FALSE),"") | H43: =IFERROR(VLOOKUP(C43,Tabla_Equipos[],5,FALSE),"") | I43: =IF(G43="","",H43-G43) | K43: =IFERROR(ROUNDUP(J43/(I43/($I$8-F43)),0),"") | L43: {=IFERROR(SUM((($W$9:$OC$9>=$F43)*(MOD($W$9:$OC$9-$F43,$K43)+1)=1)*1),"")} | M43: =IF($L43="","",COUNTIF($W43:$OC43,M$10)) | N43: =IF($L43="","",COUNTIF($W43:$OC43,N$10)) | O43: =IF($L43="","",COUNTIF($W43:$OC43,O$10)) | P43: =IF($L43="","",L43+COUNTIF($W43:$OC43,P$10)-M43-O43) | Q43: =IFERROR(M43/(M43+O43),"") | R43: =IFERROR(M43/(M43+N43),"") | S43: {=IFERROR(INDEX($W$9:$OC$9,MATCH("P",W43:OC43,0)),IFERROR(INDEX($W$9:$OC$9,1,MATCH(M43+O43+1,($W$9:$OC$9>=$F43)*(QUOTIENT($W$9:$OC$9-$F43,$K43)+1),0)),""))} | T43: =IF(S43="","",IF(S43-TODAY()<0,"",S43-TODAY())) | U43: =IFERROR(J43-MOD(I43,J43),"")
B44: =IF(C44="","",ROW(A34)) | D44: =IFERROR(VLOOKUP(C44,Tabla_Equipos[],2,FALSE),"") | H44: =IFERROR(VLOOKUP(C44,Tabla_Equipos[],5,FALSE),"") | I44: =IF(G44="","",H44-G44) | K44: =IFERROR(ROUNDUP(J44/(I44/($I$8-F44)),0),"") | L44: {=IFERROR(SUM((($W$9:$OC$9>=$F44)*(MOD($W$9:$OC$9-$F44,$K44)+1)=1)*1),"")} | M44: =IF($L44="","",COUNTIF($W44:$OC44,M$10)) | N44: =IF($L44="","",COUNTIF($W44:$OC44,N$10)) | O44: =IF($L44="","",COUNTIF($W44:$OC44,O$10)) | P44: =IF($L44="","",L44+COUNTIF($W44:$OC44,P$10)-M44-O44) | Q44: =IFERROR(M44/(M44+O44),"") | R44: =IFERROR(M44/(M44+N44),"") | S44: {=IFERROR(INDEX($W$9:$OC$9,MATCH("P",W44:OC44,0)),IFERROR(INDEX($W$9:$OC$9,1,MATCH(M44+O44+1,($W$9:$OC$9>=$F44)*(QUOTIENT($W$9:$OC$9-$F44,$K44)+1),0)),""))} | T44: =IF(S44="","",IF(S44-TODAY()<0,"",S44-TODAY())) | U44: =IFERROR(J44-MOD(I44,J44),"")
B45: =IF(C45="","",ROW(A35)) | D45: =IFERROR(VLOOKUP(C45,Tabla_Equipos[],2,FALSE),"") | H45: =IFERROR(VLOOKUP(C45,Tabla_Equipos[],5,FALSE),"") | I45: =IF(G45="","",H45-G45) | K45: =IFERROR(ROUNDUP(J45/(I45/($I$8-F45)),0),"") | L45: {=IFERROR(SUM((($W$9:$OC$9>=$F45)*(MOD($W$9:$OC$9-$F45,$K45)+1)=1)*1),"")} | M45: =IF($L45="","",COUNTIF($W45:$OC45,M$10)) | N45: =IF($L45="","",COUNTIF($W45:$OC45,N$10)) | O45: =IF($L45="","",COUNTIF($W45:$OC45,O$10)) | P45: =IF($L45="","",L45+COUNTIF($W45:$OC45,P$10)-M45-O45) | Q45: =IFERROR(M45/(M45+O45),"") | R45: =IFERROR(M45/(M45+N45),"") | S45: {=IFERROR(INDEX($W$9:$OC$9,MATCH("P",W45:OC45,0)),IFERROR(INDEX($W$9:$OC$9,1,MATCH(M45+O45+1,($W$9:$OC$9>=$F45)*(QUOTIENT($W$9:$OC$9-$F45,$K45)+1),0)),""))} | T45: =IF(S45="","",IF(S45-TODAY()<0,"",S45-TODAY())) | U45: =IFERROR(J45-MOD(I45,J45),"")
B46: =IF(C46="","",ROW(A36)) | D46: =IFERROR(VLOOKUP(C46,Tabla_Equipos[],2,FALSE),"") | H46: =IFERROR(VLOOKUP(C46,Tabla_Equipos[],5,FALSE),"") | I46: =IF(G46="","",H46-G46) | K46: =IFERROR(ROUNDUP(J46/(I46/($I$8-F46)),0),"") | L46: {=IFERROR(SUM((($W$9:$OC$9>=$F46)*(MOD($W$9:$OC$9-$F46,$K46)+1)=1)*1),"")} | M46: =IF($L46="","",COUNTIF($W46:$OC46,M$10)) | N46: =IF($L46="","",COUNTIF($W46:$OC46,N$10)) | O46: =IF($L46="","",COUNTIF($W46:$OC46,O$10)) | P46: =IF($L46="","",L46+COUNTIF($W46:$OC46,P$10)-M46-O46) | Q46: =IFERROR(M46/(M46+O46),"") | R46: =IFERROR(M46/(M46+N46),"") | S46: {=IFERROR(INDEX($W$9:$OC$9,MATCH("P",W46:OC46,0)),IFERROR(INDEX($W$9:$OC$9,1,MATCH(M46+O46+1,($W$9:$OC$9>=$F46)*(QUOTIENT($W$9:$OC$9-$F46,$K46)+1),0)),""))} | T46: =IF(S46="","",IF(S46-TODAY()<0,"",S46-TODAY())) | U46: =IFERROR(J46-MOD(I46,J46),"")
B47: =IF(C47="","",ROW(A37)) | D47: =IFERROR(VLOOKUP(C47,Tabla_Equipos[],2,FALSE),"") | H47: =IFERROR(VLOOKUP(C47,Tabla_Equipos[],5,FALSE),"") | I47: =IF(G47="","",H47-G47) | K47: =IFERROR(ROUNDUP(J47/(I47/($I$8-F47)),0),"") | L47: {=IFERROR(SUM((($W$9:$OC$9>=$F47)*(MOD($W$9:$OC$9-$F47,$K47)+1)=1)*1),"")} | M47: =IF($L47="","",COUNTIF($W47:$OC47,M$10)) | N47: =IF($L47="","",COUNTIF($W47:$OC47,N$10)) | O47: =IF($L47="","",COUNTIF($W47:$OC47,O$10)) | P47: =IF($L47="","",L47+COUNTIF($W47:$OC47,P$10)-M47-O47) | Q47: =IFERROR(M47/(M47+O47),"") | R47: =IFERROR(M47/(M47+N47),"") | S47: {=IFERROR(INDEX($W$9:$OC$9,MATCH("P",W47:OC47,0)),IFERROR(INDEX($W$9:$OC$9,1,MATCH(M47+O47+1,($W$9:$OC$9>=$F47)*(QUOTIENT($W$9:$OC$9-$F47,$K47)+1),0)),""))} | T47: =IF(S47="","",IF(S47-TODAY()<0,"",S47-TODAY())) | U47: =IFERROR(J47-MOD(I47,J47),"")
B48: =IF(C48="","",ROW(A38)) | D48: =IFERROR(VLOOKUP(C48,Tabla_Equipos[],2,FALSE),"") | H48: =IFERROR(VLOOKUP(C48,Tabla_Equipos[],5,FALSE),"") | I48: =IF(G48="","",H48-G48) | K48: =IFERROR(ROUNDUP(J48/(I48/($I$8-F48)),0),"") | L48: {=IFERROR(SUM((($W$9:$OC$9>=$F48)*(MOD($W$9:$OC$9-$F48,$K48)+1)=1)*1),"")} | M48: =IF($L48="","",COUNTIF($W48:$OC48,M$10)) | N48: =IF($L48="","",COUNTIF($W48:$OC48,N$10)) | O48: =IF($L48="","",COUNTIF($W48:$OC48,O$10)) | P48: =IF($L48="","",L48+COUNTIF($W48:$OC48,P$10)-M48-O48) | Q48: =IFERROR(M48/(M48+O48),"") | R48: =IFERROR(M48/(M48+N48),"") | S48: {=IFERROR(INDEX($W$9:$OC$9,MATCH("P",W48:OC48,0)),IFERROR(INDEX($W$9:$OC$9,1,MATCH(M48+O48+1,($W$9:$OC$9>=$F48)*(QUOTIENT($W$9:$OC$9-$F48,$K48)+1),0)),""))} | T48: =IF(S48="","",IF(S48-TODAY()<0,"",S48-TODAY())) | U48: =IFERROR(J48-MOD(I48,J48),"")
B49: =IF(C49="","",ROW(A39)) | D49: =IFERROR(VLOOKUP(C49,Tabla_Equipos[],2,FALSE),"") | H49: =IFERROR(VLOOKUP(C49,Tabla_Equipos[],5,FALSE),"") | I49: =IF(G49="","",H49-G49) | K49: =IFERROR(ROUNDUP(J49/(I49/($I$8-F49)),0),"") | L49: {=IFERROR(SUM((($W$9:$OC$9>=$F49)*(MOD($W$9:$OC$9-$F49,$K49)+1)=1)*1),"")} | M49: =IF($L49="","",COUNTIF($W49:$OC49,M$10)) | N49: =IF($L49="","",COUNTIF($W49:$OC49,N$10)) | O49: =IF($L49="","",COUNTIF($W49:$OC49,O$10)) | P49: =IF($L49="","",L49+COUNTIF($W49:$OC49,P$10)-M49-O49) | Q49: =IFERROR(M49/(M49+O49),"") | R49: =IFERROR(M49/(M49+N49),"") | S49: {=IFERROR(INDEX($W$9:$OC$9,MATCH("P",W49:OC49,0)),IFERROR(INDEX($W$9:$OC$9,1,MATCH(M49+O49+1,($W$9:$OC$9>=$F49)*(QUOTIENT($W$9:$OC$9-$F49,$K49)+1),0)),""))} | T49: =IF(S49="","",IF(S49-TODAY()<0,"",S49-TODAY())) | U49: =IFERROR(J49-MOD(I49,J49),"")
... B100: =IF(C100="","",ROW(A90)) | D100: =IFERROR(VLOOKUP(C100,Tabla_Equipos[],2,FALSE),"") | H100: =IFERROR(VLOOKUP(C100,Tabla_Equipos[],5,FALSE),"") | I100: =IF(G100="","",H100-G100) | K100: =IFERROR(ROUNDUP(J100/(I100/($I$8-F100)),0),"") | L100: {=IFERROR(SUM((($W$9:$OC$9>=$F100)*(MOD($W$9:$OC$9-$F100,$K100)+1)=1)*1),"")} | M100: =IF($L100="","",COUNTIF($W100:$OC100,M$10)) | N100: =IF($L100="","",COUNTIF($W100:$OC100,N$10)) | O100: =IF($L100="","",COUNTIF($W100:$OC100,O$10)) | P100: =IF($L100="","",L100+COUNTIF($W100:$OC100,P$10)-M100-O100) | Q100: =IFERROR(M100/(M100+O100),"") | R100: =IFERROR(M100/(M100+N100),"") | S100: {=IFERROR(INDEX($W$9:$OC$9,MATCH("P",W100:OC100,0)),IFERROR(INDEX($W$9:$OC$9,1,MATCH(M100+O100+1,($W$9:$OC$9>=$F100)*(QUOTIENT($W$9:$OC$9-$F100,$K100)+1),0)),""))} | T100: =IF(S100="","",IF(S100-TODAY()<0,"",S100-TODAY())) | U100: =IFERROR(J100-MOD(I100,J100),"")

Sheet Informe
B1: INFORME DE INDICADORES POR EQUIPO Y SEMANAL
B3: Código de Equipo | C3: 1065
B4: =IFERROR(VLOOKUP(C3,Tabla_Equipos[],2,FALSE),"Todos los Equipos") -> Montacarga 2ETC3000
F9: ="Semana "&'Calculos Semana'!$D$2+COLUMN(A1)-1 -> Semana 1 | G9: ="Semana "&'Calculos Semana'!$D$2+COLUMN(B1)-1 -> Semana 2 | H9: ="Semana "&'Calculos Semana'!$D$2+COLUMN(C1)-1 -> Semana 3 | I9: ="Semana "&'Calculos Semana'!$D$2+COLUMN(D1)-1 -> Semana 4 | J9: ="Semana "&'Calculos Semana'!$D$2+COLUMN(E1)-1 -> Semana 5 | K9: ="Semana "&'Calculos Semana'!$D$2+COLUMN(F1)-1 -> Semana 6 | L9: ="Semana "&'Calculos Semana'!$D$2+COLUMN(G1)-1 -> Semana 7 | M9: ="Semana "&'Calculos Semana'!$D$2+COLUMN(H1)-1 -> Semana 8 | ... O9: ="Semana "&'Calculos Semana'!$D$2+COLUMN(J1)-1 -> Semana 10
A11: =REPT(" ",8)&COUNTA($B$16:$B$9915) -> 0 | B11: Programados (PR) | C11: =SUMIF(Programa!$C$11:$C$10000,IF($C$3="Todos","*",$C$3),Programa!$L$11:$L$10000) -> 0 | E11: Cumplimiento | F11: =IFERROR(F12/(F12+F14),NA()) -> #N/A | G11: =IFERROR(G12/(G12+G14),NA()) -> #N/A | H11: =IFERROR(H12/(H12+H14),NA()) -> #N/A | I11: =IFERROR(I12/(I12+I14),NA()) -> #N/A | J11: =IFERROR(J12/(J12+J14),NA()) -> #N/A | K11: =IFERROR(K12/(K12+K14),NA()) -> #N/A | L11: =IFERROR(L12/(L12+L14),NA()) -> #N/A | M11: =IFERROR(M12/(M12+M14),NA()) -> #N/A | ... O11: =IFERROR(O12/(O12+O14),NA()) -> #N/A
A12: {=REPT(" ",8)&COUNT(IF(_xlfn.UNIQUE(#REF!)<>"",0))} -> 0 | B12: Ejecutados (E) | C12: =SUMIF(Programa!$C$11:$C$10000,IF($C$3="Todos","*",$C$3),Programa!$M$11:$M$10000) -> 0 | E12: E | F12: =OFFSET('Calculos Semana'!$C$3,MATCH(Informe!$E12,'Calculos Semana'!$C$4:$C$6,0),MATCH(F$9,'Calculos Semana'!$D$3:$BD$3,0)) -> 0 | G12: =OFFSET('Calculos Semana'!$C$3,MATCH(Informe!$E12,'Calculos Semana'!$C$4:$C$6,0),MATCH(G$9,'Calculos Semana'!$D$3:$BD$3,0)) -> 0 | H12: =OFFSET('Calculos Semana'!$C$3,MATCH(Informe!$E12,'Calculos Semana'!$C$4:$C$6,0),MATCH(H$9,'Calculos Semana'!$D$3:$BD$3,0)) -> 0 | I12: =OFFSET('Calculos Semana'!$C$3,MATCH(Informe!$E12,'Calculos Semana'!$C$4:$C$6,0),MATCH(I$9,'Calculos Semana'!$D$3:$BD$3,0)) -> 0 | J12: =OFFSET('Calculos Semana'!$C$3,MATCH(Informe!$E12,'Calculos Semana'!$C$4:$C$6,0),MATCH(J$9,'Calculos Semana'!$D$3:$BD$3,0)) -> 0 | K12: =OFFSET('Calculos Semana'!$C$3,MATCH(Informe!$E12,'Calculos Semana'!$C$4:$C$6,0),MATCH(K$9,'Calculos Semana'!$D$3:$BD$3,0)) -> 0 | L12: =OFFSET('Calculos Semana'!$C$3,MATCH(Informe!$E12,'Calculos Semana'!$C$4:$C$6,0),MATCH(L$9,'Calculos Semana'!$D$3:$BD$3,0)) -> 0 | M12: =OFFSET('Calculos Semana'!$C$3,MATCH(Informe!$E12,'Calculos Semana'!$C$4:$C$6,0),MATCH(M$9,'Calculos Semana'!$D$3:$BD$3,0)) -> 0 | ... O12: =OFFSET('Calculos Semana'!$C$3,MATCH(Informe!$E12,'Calculos Semana'!$C$4:$C$6,0),MATCH(O$9,'Calculos Semana'!$D$3:$BD$3,0)) -> 0
B13: Reprogramados (R) | C13: =SUMIF(Programa!$C$11:$C$10000,IF($C$3="Todos","*",$C$3),Programa!$N$11:$N$10000) -> 0 | E13: R | F13: =OFFSET('Calculos Semana'!$C$3,MATCH(Informe!$E13,'Calculos Semana'!$C$4:$C$6,0),MATCH(F$9,'Calculos Semana'!$D$3:$BD$3,0)) -> 0 | G13: =OFFSET('Calculos Semana'!$C$3,MATCH(Informe!$E13,'Calculos Semana'!$C$4:$C$6,0),MATCH(G$9,'Calculos Semana'!$D$3:$BD$3,0)) -> 0 | H13: =OFFSET('Calculos Semana'!$C$3,MATCH(Informe!$E13,'Calculos Semana'!$C$4:$C$6,0),MATCH(H$9,'Calculos Semana'!$D$3:$BD$3,0)) -> 0 | I13: =OFFSET('Calculos Semana'!$C$3,MATCH(Informe!$E13,'Calculos Semana'!$C$4:$C$6,0),MATCH(I$9,'Calculos Semana'!$D$3:$BD$3,0)) -> 0 | J13: =OFFSET('Calculos Semana'!$C$3,MATCH(Informe!$E13,'Calculos Semana'!$C$4:$C$6,0),MATCH(J$9,'Calculos Semana'!$D$3:$BD$3,0)) -> 0 | K13: =OFFSET('Calculos Semana'!$C$3,MATCH(Informe!$E13,'Calculos Semana'!$C$4:$C$6,0),MATCH(K$9,'Calculos Semana'!$D$3:$BD$3,0)) -> 0 | L13: =OFFSET('Calculos Semana'!$C$3,MATCH(Informe!$E13,'Calculos Semana'!$C$4:$C$6,0),MATCH(L$9,'Calculos Semana'!$D$3:$BD$3,0)) -> 0 | M13: =OFFSET('Calculos Semana'!$C$3,MATCH(Informe!$E13,'Calculos Semana'!$C$4:$C$6,0),MATCH(M$9,'Calculos Semana'!$D$3:$BD$3,0)) -> 0 | ... O13: =OFFSET('Calculos Semana'!$C$3,MATCH(Informe!$E13,'Calculos Semana'!$C$4:$C$6,0),MATCH(O$9,'Calculos Semana'!$D$3:$BD$3,0)) -> 0
B14: No Ejecutados (N) | C14: =SUMIF(Programa!$C$11:$C$10000,IF($C$3="Todos","*",$C$3),Programa!$O$11:$O$10000) -> 0 | E14: N | F14: =OFFSET('Calculos Semana'!$C$3,MATCH(Informe!$E14,'Calculos Semana'!$C$4:$C$6,0),MATCH(F$9,'Calculos Semana'!$D$3:$BD$3,0)) -> 0 | G14: =OFFSET('Calculos Semana'!$C$3,MATCH(Informe!$E14,'Calculos Semana'!$C$4:$C$6,0),MATCH(G$9,'Calculos Semana'!$D$3:$BD$3,0)) -> 0 | H14: =OFFSET('Calculos Semana'!$C$3,MATCH(Informe!$E14,'Calculos Semana'!$C$4:$C$6,0),MATCH(H$9,'Calculos Semana'!$D$3:$BD$3,0)) -> 0 | I14: =OFFSET('Calculos Semana'!$C$3,MATCH(Informe!$E14,'Calculos Semana'!$C$4:$C$6,0),MATCH(I$9,'Calculos Semana'!$D$3:$BD$3,0)) -> 0 | J14: =OFFSET('Calculos Semana'!$C$3,MATCH(Informe!$E14,'Calculos Semana'!$C$4:$C$6,0),MATCH(J$9,'Calculos Semana'!$D$3:$BD$3,0)) -> 0 | K14: =OFFSET('Calculos Semana'!$C$3,MATCH(Informe!$E14,'Calculos Semana'!$C$4:$C$6,0),MATCH(K$9,'Calculos Semana'!$D$3:$BD$3,0)) -> 0 | L14: =OFFSET('Calculos Semana'!$C$3,MATCH(Informe!$E14,'Calculos Semana'!$C$4:$C$6,0),MATCH(L$9,'Calculos Semana'!$D$3:$BD$3,0)) -> 0 | M14: =OFFSET('Calculos Semana'!$C$3,MATCH(Informe!$E14,'Calculos Semana'!$C$4:$C$6,0),MATCH(M$9,'Calculos Semana'!$D$3:$BD$3,0)) -> 0 | ... O14: =OFFSET('Calculos Semana'!$C$3,MATCH(Informe!$E14,'Calculos Semana'!$C$4:$C$6,0),MATCH(O$9,'Calculos Semana'!$D$3:$BD$3,0)) -> 0
B15: Pendientes (P) | C15: =SUMIF(Programa!$C$11:$C$10000,IF($C$3="Todos","*",$C$3),Programa!$P$11:$P$10000) -> 0 | E15: Efectividad | F15: =IFERROR(F12/(F12+F13),NA()) -> #N/A | G15: =IFERROR(G12/(G12+G13),NA()) -> #N/A | H15: =IFERROR(H12/(H12+H13),NA()) -> #N/A | I15: =IFERROR(I12/(I12+I13),NA()) -> #N/A | J15: =IFERROR(J12/(J12+J13),NA()) -> #N/A | K15: =IFERROR(K12/(K12+K13),NA()) -> #N/A | L15: =IFERROR(L12/(L12+L13),NA()) -> #N/A | M15: =IFERROR(M12/(M12+M13),NA()) -> #N/A | ... O15: =IFERROR(O12/(O12+O13),NA()) -> #N/A

Sheet Velocimetros
B2: VELOCIMETROS TOTALES | H2: VELOCIMETROS POR EQUIPO | N2: Lista de códigos | O2: Vinculo Fecha
B4: % Cumplimiento | E4: % Eficiencia | H4: % Cumplimiento | K4: % Eficiencia | N4: Todos | O4: 15355
N5: {=OFFSET(Maquinaria!$B$5,0,0,COUNTA(Tabla_Equipos[Código]))} -> 8676
B6: Tamaño Secciones | E6: Tamaño Secciones | H6: Tamaño Secciones | K6: Tamaño Secciones | N6: 4020
B7: Rojo: | C7: =Programa!$K$5 -> 0.75 | E7: Rojo: | F7: =Programa!$L$5 -> 0.6 | H7: Rojo: | I7: =Programa!$K$5 -> 0.75 | K7: Rojo: | L7: =Programa!$L$5 -> 0.6 | N7: 4717
B8: Amarillo: | C8: =Programa!$K$7-Programa!$K$5 -> 0.15 | E8: Amarillo: | F8: =Programa!$L$7-Programa!$L$5 -> 0.2 | H8: Amarillo: | I8: =Programa!$K$7-Programa!$K$5 -> 0.15 | K8: Amarillo: | L8: =Programa!$L$7-Programa!$L$5 -> 0.2 | N8: 2180
B9: Verde: | C9: =1-C8-C7 -> 0.1 | E9: Verde: | F9: =1-F8-F7 -> 0.2 | H9: Verde: | I9: =1-I8-I7 -> 0.1 | K9: Verde: | L9: =1-L8-L7 -> 0.2 | N9: 1065
B10: Complemen: | C10: 1 | E10: Complemen: | F10: 1 | H10: Complemen: | I10: 1 | K10: Complemen: | L10: 1
B12: Indicador | E12: Indicador | H12: Indicador | K12: Indicador
B13: Indicador: | C13: =IFERROR(ROUND(Programa!F4/(Programa!F4+Programa!F7),2),"") | E13: Indicador: | F13: =IFERROR(ROUND(Programa!F4/(Programa!F4+Programa!F5),2),"") | H13: Indicador: | I13: =IFERROR(ROUND(Informe!C12/(Informe!C12+Informe!C14),2),"") | K13: Indicador: | L13: =IFERROR(ROUND(Informe!C12/(Informe!C12+Informe!C13),2),"")
B14: Ancho Aguja: | C14: 0.03 | E14: Ancho Aguja: | F14: 0.03 | H14: Ancho Aguja: | I14: 0.03 | K14: Ancho Aguja: | L14: 0.03
B15: Diferencia KPI | C15: =1-C13-C14 -> #VALUE! | E15: Diferencia KPI | F15: =1-F13-F14 -> #VALUE! | H15: Diferencia KPI | I15: =1-I13-I14 -> #VALUE! | K15: Diferencia KPI | L15: =1-L13-L14 -> #VALUE!
B16: Complement: | C16: 1 | E16: Complement: | F16: 1 | H16: Complement: | I16: 1 | K16: Complement: | L16: 1

Sheet Calculos Semana
A1: FALSE
B2: EQUIPO NRO | C2: =Informe!C3 -> 1065 | D2: 1
B3: SEMANA | D3: Semana 1 | E3: Semana 2 | F3: Semana 3 | G3: Semana 4 | H3: Semana 5 | I3: Semana 6 | J3: Semana 7 | K3: Semana 8 | L3: Semana 9 | M3: Semana 10 | N3: Semana 11 | O3: Semana 12 | P3: Semana 13 | Q3: Semana 14 | R3: Semana 15 | S3: Semana 16 | T3: Semana 17 | U3: Semana 18 | V3: Semana 19 | W3: Semana 20 | X3: Semana 21 | Y3: Semana 22 | Z3: Semana 23 | AA3: Semana 24 | AB3: Semana 25 | AC3: Semana 26 | AD3: Semana 27 | AE3: Semana 28 | AF3: Semana 29 | AG3: Semana 30 | AH3: Semana 31 | AI3: Semana 32 | AJ3: Semana 33 | AK3: Semana 34 | AL3: Semana 35 | AM3: Semana 36 | AN3: Semana 37 | AO3: Semana 38 | AP3: Semana 39 | AQ3: Semana 40 | AR3: Semana 41 | AS3: Semana 42 | AT3: Semana 43 | AU3: Semana 44 | AV3: Semana 45 | AW3: Semana 46 | AX3: Semana 47 | AY3: Semana 48 | AZ3: Semana 49 | BA3: Semana 50 | BB3: Semana 51 | BC3: Semana 52 | BD3: Semana 53
B4: ESTADO | C4: E | D4: =IFERROR(COUNTIF(OFFSET(Programa!$V$11,MATCH($C$2,Programa!$C$11:$C$1000,0)-1,MATCH(D$3,Programa!$W$7:$OC$7,0),COUNTIF(Programa!$C$11:$C$1000,$C$2),7),$C4),COUNTIF(OFFSET(Programa!$V$11,0,MATCH(D$3,Programa!$W$7:$OC$7,0),1000,7),$C4)) -> 0 | E4: =IFERROR(COUNTIF(OFFSET(Programa!$V$11,MATCH($C$2,Programa!$C$11:$C$1000,0)-1,MATCH(E$3,Programa!$W$7:$OC$7,0),COUNTIF(Programa!$C$11:$C$1000,$C$2),7),$C4),COUNTIF(OFFSET(Programa!$V$11,0,MATCH(E$3,Programa!$W$7:$OC$7,0),1000,7),$C4)) -> 0 | F4: =IFERROR(COUNTIF(OFFSET(Programa!$V$11,MATCH($C$2,Programa!$C$11:$C$1000,0)-1,MATCH(F$3,Programa!$W$7:$OC$7,0),COUNTIF(Programa!$C$11:$C$1000,$C$2),7),$C4),COUNTIF(OFFSET(Programa!$V$11,0,MATCH(F$3,Programa!$W$7:$OC$7,0),1000,7),$C4)) -> 0 | G4: =IFERROR(COUNTIF(OFFSET(Programa!$V$11,MATCH($C$2,Programa!$C$11:$C$1000,0)-1,MATCH(G$3,Programa!$W$7:$OC$7,0),COUNTIF(Programa!$C$11:$C$1000,$C$2),7),$C4),COUNTIF(OFFSET(Programa!$V$11,0,MATCH(G$3,Programa!$W$7:$OC$7,0),1000,7),$C4)) -> 0 | H4: =IFERROR(COUNTIF(OFFSET(Programa!$V$11,MATCH($C$2,Programa!$C$11:$C$1000,0)-1,MATCH(H$3,Programa!$W$7:$OC$7,0),COUNTIF(Programa!$C$11:$C$1000,$C$2),7),$C4),COUNTIF(OFFSET(Programa!$V$11,0,MATCH(H$3,Programa!$W$7:$OC$7,0),1000,7),$C4)) -> 0 | I4: =IFERROR(COUNTIF(OFFSET(Programa!$V$11,MATCH($C$2,Programa!$C$11:$C$1000,0)-1,MATCH(I$3,Programa!$W$7:$OC$7,0),COUNTIF(Programa!$C$11:$C$1000,$C$2),7),$C4),COUNTIF(OFFSET(Programa!$V$11,0,MATCH(I$3,Programa!$W$7:$OC$7,0),1000,7),$C4)) -> 0 | J4: =IFERROR(COUNTIF(OFFSET(Programa!$V$11,MATCH($C$2,Programa!$C$11:$C$1000,0)-1,MATCH(J$3,Programa!$W$7:$OC$7,0),COUNTIF(Programa!$C$11:$C$1000,$C$2),7),$C4),COUNTIF(OFFSET(Programa!$V$11,0,MATCH(J$3,Programa!$W$7:$OC$7,0),1000,7),$C4)) -> 0 | K4: =IFERROR(COUNTIF(OFFSET(Programa!$V$11,MATCH($C$2,Programa!$C$11:$C$1000,0)-1,MATCH(K$3,Programa!$W$7:$OC$7,0),COUNTIF(Programa!$C$11:$C$1000,$C$2),7),$C4),COUNTIF(OFFSET(Programa!$V$11,0,MATCH(K$3,Programa!$W$7:$OC$7,0),1000,7),$C4)) -> 0 | ... BD4: =IFERROR(COUNTIF(OFFSET(Programa!$V$11,MATCH($C$2,Programa!$C$11:$C$1000,0)-1,MATCH(BD$3,Programa!$W$7:$OC$7,0),COUNTIF(Programa!$C$11:$C$1000,$C$2),7),$C4),COUNTIF(OFFSET(Programa!$V$11,0,MATCH(BD$3,Programa!$W$7:$OC$7,0),1000,7),$C4)) -> 0
C5: R | D5: =IFERROR(COUNTIF(OFFSET(Programa!$V$11,MATCH($C$2,Programa!$C$11:$C$1000,0)-1,MATCH(D$3,Programa!$W$7:$OC$7,0),COUNTIF(Programa!$C$11:$C$1000,$C$2),7),$C5),COUNTIF(OFFSET(Programa!$V$11,0,MATCH(D$3,Programa!$W$7:$OC$7,0),1000,7),$C5)) -> 0 | E5: =IFERROR(COUNTIF(OFFSET(Programa!$V$11,MATCH($C$2,Programa!$C$11:$C$1000,0)-1,MATCH(E$3,Programa!$W$7:$OC$7,0),COUNTIF(Programa!$C$11:$C$1000,$C$2),7),$C5),COUNTIF(OFFSET(Programa!$V$11,0,MATCH(E$3,Programa!$W$7:$OC$7,0),1000,7),$C5)) -> 0 | F5: =IFERROR(COUNTIF(OFFSET(Programa!$V$11,MATCH($C$2,Programa!$C$11:$C$1000,0)-1,MATCH(F$3,Programa!$W$7:$OC$7,0),COUNTIF(Programa!$C$11:$C$1000,$C$2),7),$C5),COUNTIF(OFFSET(Programa!$V$11,0,MATCH(F$3,Programa!$W$7:$OC$7,0),1000,7),$C5)) -> 0 | G5: =IFERROR(COUNTIF(OFFSET(Programa!$V$11,MATCH($C$2,Programa!$C$11:$C$1000,0)-1,MATCH(G$3,Programa!$W$7:$OC$7,0),COUNTIF(Programa!$C$11:$C$1000,$C$2),7),$C5),COUNTIF(OFFSET(Programa!$V$11,0,MATCH(G$3,Programa!$W$7:$OC$7,0),1000,7),$C5)) -> 0 | H5: =IFERROR(COUNTIF(OFFSET(Programa!$V$11,MATCH($C$2,Programa!$C$11:$C$1000,0)-1,MATCH(H$3,Programa!$W$7:$OC$7,0),COUNTIF(Programa!$C$11:$C$1000,$C$2),7),$C5),COUNTIF(OFFSET(Programa!$V$11,0,MATCH(H$3,Programa!$W$7:$OC$7,0),1000,7),$C5)) -> 0 | I5: =IFERROR(COUNTIF(OFFSET(Programa!$V$11,MATCH($C$2,Programa!$C$11:$C$1000,0)-1,MATCH(I$3,Programa!$W$7:$OC$7,0),COUNTIF(Programa!$C$11:$C$1000,$C$2),7),$C5),COUNTIF(OFFSET(Programa!$V$11,0,MATCH(I$3,Programa!$W$7:$OC$7,0),1000,7),$C5)) -> 0 | J5: =IFERROR(COUNTIF(OFFSET(Programa!$V$11,MATCH($C$2,Programa!$C$11:$C$1000,0)-1,MATCH(J$3,Programa!$W$7:$OC$7,0),COUNTIF(Programa!$C$11:$C$1000,$C$2),7),$C5),COUNTIF(OFFSET(Programa!$V$11,0,MATCH(J$3,Programa!$W$7:$OC$7,0),1000,7),$C5)) -> 0 | K5: =IFERROR(COUNTIF(OFFSET(Programa!$V$11,MATCH($C$2,Programa!$C$11:$C$1000,0)-1,MATCH(K$3,Programa!$W$7:$OC$7,0),COUNTIF(Programa!$C$11:$C$1000,$C$2),7),$C5),COUNTIF(OFFSET(Programa!$V$11,0,MATCH(K$3,Programa!$W$7:$OC$7,0),1000,7),$C5)) -> 0 | ... BD5: =IFERROR(COUNTIF(OFFSET(Programa!$V$11,MATCH($C$2,Programa!$C$11:$C$1000,0)-1,MATCH(BD$3,Programa!$W$7:$OC$7,0),COUNTIF(Programa!$C$11:$C$1000,$C$2),7),$C5),COUNTIF(OFFSET(Programa!$V$11,0,MATCH(BD$3,Programa!$W$7:$OC$7,0),1000,7),$C5)) -> 0
C6: N | D6: =IFERROR(COUNTIF(OFFSET(Programa!$V$11,MATCH($C$2,Programa!$C$11:$C$1000,0)-1,MATCH(D$3,Programa!$W$7:$OC$7,0),COUNTIF(Programa!$C$11:$C$1000,$C$2),7),$C6),COUNTIF(OFFSET(Programa!$V$11,0,MATCH(D$3,Programa!$W$7:$OC$7,0),1000,7),$C6)) -> 0 | E6: =IFERROR(COUNTIF(OFFSET(Programa!$V$11,MATCH($C$2,Programa!$C$11:$C$1000,0)-1,MATCH(E$3,Programa!$W$7:$OC$7,0),COUNTIF(Programa!$C$11:$C$1000,$C$2),7),$C6),COUNTIF(OFFSET(Programa!$V$11,0,MATCH(E$3,Programa!$W$7:$OC$7,0),1000,7),$C6)) -> 0 | F6: =IFERROR(COUNTIF(OFFSET(Programa!$V$11,MATCH($C$2,Programa!$C$11:$C$1000,0)-1,MATCH(F$3,Programa!$W$7:$OC$7,0),COUNTIF(Programa!$C$11:$C$1000,$C$2),7),$C6),COUNTIF(OFFSET(Programa!$V$11,0,MATCH(F$3,Programa!$W$7:$OC$7,0),1000,7),$C6)) -> 0 | G6: =IFERROR(COUNTIF(OFFSET(Programa!$V$11,MATCH($C$2,Programa!$C$11:$C$1000,0)-1,MATCH(G$3,Programa!$W$7:$OC$7,0),COUNTIF(Programa!$C$11:$C$1000,$C$2),7),$C6),COUNTIF(OFFSET(Programa!$V$11,0,MATCH(G$3,Programa!$W$7:$OC$7,0),1000,7),$C6)) -> 0 | H6: =IFERROR(COUNTIF(OFFSET(Programa!$V$11,MATCH($C$2,Programa!$C$11:$C$1000,0)-1,MATCH(H$3,Programa!$W$7:$OC$7,0),COUNTIF(Programa!$C$11:$C$1000,$C$2),7),$C6),COUNTIF(OFFSET(Programa!$V$11,0,MATCH(H$3,Programa!$W$7:$OC$7,0),1000,7),$C6)) -> 0 | I6: =IFERROR(COUNTIF(OFFSET(Programa!$V$11,MATCH($C$2,Programa!$C$11:$C$1000,0)-1,MATCH(I$3,Programa!$W$7:$OC$7,0),COUNTIF(Programa!$C$11:$C$1000,$C$2),7),$C6),COUNTIF(OFFSET(Programa!$V$11,0,MATCH(I$3,Programa!$W$7:$OC$7,0),1000,7),$C6)) -> 0 | J6: =IFERROR(COUNTIF(OFFSET(Programa!$V$11,MATCH($C$2,Programa!$C$11:$C$1000,0)-1,MATCH(J$3,Programa!$W$7:$OC$7,0),COUNTIF(Programa!$C$11:$C$1000,$C$2),7),$C6),COUNTIF(OFFSET(Programa!$V$11,0,MATCH(J$3,Programa!$W$7:$OC$7,0),1000,7),$C6)) -> 0 | K6: =IFERROR(COUNTIF(OFFSET(Programa!$V$11,MATCH($C$2,Programa!$C$11:$C$1000,0)-1,MATCH(K$3,Programa!$W$7:$OC$7,0),COUNTIF(Programa!$C$11:$C$1000,$C$2),7),$C6),COUNTIF(OFFSET(Programa!$V$11,0,MATCH(K$3,Programa!$W$7:$OC$7,0),1000,7),$C6)) -> 0 | ... BD6: =IFERROR(COUNTIF(OFFSET(Programa!$V$11,MATCH($C$2,Programa!$C$11:$C$1000,0)-1,MATCH(BD$3,Programa!$W$7:$OC$7,0),COUNTIF(Programa!$C$11:$C$1000,$C$2),7),$C6),COUNTIF(OFFSET(Programa!$V$11,0,MATCH(BD$3,Programa!$W$7:$OC$7,0),1000,7),$C6)) -> 0
